BEGIN:VCALENDAR
VERSION:2.0
PRODID:-//Telugu Association of Memphis - ECPv6.15.13//NONSGML v1.0//EN
CALSCALE:GREGORIAN
METHOD:PUBLISH
X-WR-CALNAME:Telugu Association of Memphis
X-ORIGINAL-URL:https://telugumemphis.org
X-WR-CALDESC:Events for Telugu Association of Memphis
REFRESH-INTERVAL;VALUE=DURATION:PT1H
X-Robots-Tag:noindex
X-PUBLISHED-TTL:PT1H
BEGIN:VTIMEZONE
TZID:America/Chicago
BEGIN:DAYLIGHT
TZOFFSETFROM:-0600
TZOFFSETTO:-0500
TZNAME:CDT
DTSTART:20230312T080000
END:DAYLIGHT
BEGIN:STANDARD
TZOFFSETFROM:-0500
TZOFFSETTO:-0600
TZNAME:CST
DTSTART:20231105T070000
END:STANDARD
BEGIN:DAYLIGHT
TZOFFSETFROM:-0600
TZOFFSETTO:-0500
TZNAME:CDT
DTSTART:20240310T080000
END:DAYLIGHT
BEGIN:STANDARD
TZOFFSETFROM:-0500
TZOFFSETTO:-0600
TZNAME:CST
DTSTART:20241103T070000
END:STANDARD
BEGIN:DAYLIGHT
TZOFFSETFROM:-0600
TZOFFSETTO:-0500
TZNAME:CDT
DTSTART:20250309T080000
END:DAYLIGHT
BEGIN:STANDARD
TZOFFSETFROM:-0500
TZOFFSETTO:-0600
TZNAME:CST
DTSTART:20251102T070000
END:STANDARD
END:VTIMEZONE
BEGIN:VTIMEZONE
TZID:UTC
BEGIN:STANDARD
TZOFFSETFROM:+0000
TZOFFSETTO:+0000
TZNAME:UTC
DTSTART:20220101T000000
END:STANDARD
END:VTIMEZONE
BEGIN:VEVENT
DTSTART;TZID=America/Chicago:20240217T090000
DTEND;TZID=America/Chicago:20240217T160000
DTSTAMP:20260423T075506
CREATED:20240130T185049Z
LAST-MODIFIED:20240209T035944Z
UID:2151-1708160400-1708185600@telugumemphis.org
SUMMARY:TAM Chess and Carroms 2024
DESCRIPTION:The TAM 2024 Sports team is excited to announce the first sports event of the year: the chess and carrom tournament. \nDate & Time: Sunday\, February 17th\, 2024\, 9 AM to 4 PM date changed\nVenue: Aashiana Hall\n360 New Byhalia Rd.\, Collierville\, TN 38017 \nTo register\, please click HERE\nRegistration Deadline: Wednesday\, February 14th\, 2024 \n  \nFor more information or tournament-related questions\, please contact the sports team at: \nJayapal Reddy Buddala: 901-550-5787\nRamaiah Seeda: 901-335-1157 \n \n 
URL:https://telugumemphis.org/eventcal/tam-chess-and-carroms-2024/
LOCATION:Aashiana Hall\, 360 New Byhalia Rd\, Collierville\, TN\, 38017\, United States
CATEGORIES:Event
ORGANIZER;CN="Telugu Association of Memphis":MAILTO:telugumemphis@telugumemphis.org
END:VEVENT
BEGIN:VEVENT
DTSTART;VALUE=DATE:20240203
DTEND;VALUE=DATE:20240204
DTSTAMP:20260423T075506
CREATED:20240130T183334Z
LAST-MODIFIED:20240209T040048Z
UID:2140-1706918400-1707004799@telugumemphis.org
SUMMARY:TAM సంక్రాంతి-సంబరాలు 2024
DESCRIPTION:Please RSVP to the event at https://bit.ly/sankranthisignup24 \nWe are excited for the first stage event of 2024\, Sankranthi Sambaralu\, on Saturday\, February 3rd\, 2024\, from 3 p.m. to 7 p.m. \nWe are looking forward to your enthusiastic and talented stage performances promoting Telugu culture\, tradition\, and language. \nVenue: Southwind High School\nAddress : 7900 E SHELBY DR. Memphis\,TN\, 38125 ( https://maps.app.goo.gl/xuSuExhCHL7YbeyT6)
URL:https://telugumemphis.org/eventcal/tam-sankrathisambaralu-2024/
LOCATION:Southwind High School\, 7900 E SHELBY DR.\, Memphis\, TN\, 38125\, United States
CATEGORIES:Festival
ORGANIZER;CN="Telugu Association of Memphis":MAILTO:telugumemphis@telugumemphis.org
END:VEVENT
BEGIN:VEVENT
DTSTART;VALUE=DATE:20231001
DTEND;VALUE=DATE:20231002
DTSTAMP:20260423T075506
CREATED:20231221T185129Z
LAST-MODIFIED:20231221T185259Z
UID:667-1696118400-1696204799@telugumemphis.org
SUMMARY:TAM Mahila event
DESCRIPTION:
URL:https://telugumemphis.org/eventcal/tam-mahila-event/
LOCATION:Davis Community Center\, \, 3371 Spottswood Ave Memphis\, TN 38111\, TN\, 38111\, United States
CATEGORIES:Event
END:VEVENT
END:VCALENDAR